BEGIN:VCALENDAR
VERSION:2.0
PRODID:-//Festival Internacional de Circo de Uruguay - ECPv5.1.2//NONSGML v1.0//EN
CALSCALE:GREGORIAN
METHOD:PUBLISH
X-WR-CALNAME:Festival Internacional de Circo de Uruguay
X-ORIGINAL-URL:https://ficuruguay.com
X-WR-CALDESC:Eventos para Festival Internacional de Circo de Uruguay
BEGIN:VTIMEZONE
TZID:America/Sao_Paulo
BEGIN:STANDARD
TZOFFSETFROM:-0300
TZOFFSETTO:-0300
TZNAME:-03
DTSTART:20240101T000000
END:STANDARD
END:VTIMEZONE
BEGIN:VEVENT
DTSTART;TZID=America/Sao_Paulo:20240917T170000
DTEND;TZID=America/Sao_Paulo:20240917T180000
DTSTAMP:20260416T231614
CREATED:20220803T212051Z
LAST-MODIFIED:20240807T224420Z
UID:3326-1726592400-1726596000@ficuruguay.com
SUMMARY:Opalalá: el circo únicoOpa! Payasos (Uruguay)
DESCRIPTION:A la gorra \nApto para todo público \nSe abre el telón y al grito de Opalalá se anuncia al público una gran función de este maravilloso circo. Tras bambalinas aguardan actos extraordinarios y sorprendentes. Pero este circo peculiar guarda un pequeño secreto\, que a medida que transcurre el espectáculo comienza a develarse. El circo único\, cuenta solamente con un artista que interpreta todos los roles: es el acróbata\, el malabarista\, el mago\, el hombre forzudo y hasta el león. La presentadora y el versátil personaje tienen el desafío de intentar llegar al final del show sin que niñas y niños se den cuenta de la inevitable situación bochornosa. \nOpalalá es un espectáculo ágil y divertido\, que combina diferentes disciplinas circenses con el teatro clownesco\, es una puesta que busca un encuentro cálido y alegre con el público\, una experiencia para compartir en familia. Desfilan por el escenario de Opalalá malabares\, acrobacia de piso\, bola de contact\, una mal lograda demostración de fuerza\, un acto de ilusionismo y el número final\, la domadora y el león.  \n \n
URL:https://ficuruguay.com/evento/opalala_17/
LOCATION:El Picadero (Parque)\, Uruguayana 3836\, Montevideo\, Uruguay
CATEGORIES:Espectáculos
ATTACH;FMTTYPE=image/jpeg:https://ficuruguay.com/wp/wp-content/uploads/2022/08/OPALALA.jpg
END:VEVENT
END:VCALENDAR